Workbook

Sheet ESF SNS
C2: Servicio Regional VIII de Salud, Cibao Sur
D3: HOSPITAL DR. PEDRO ANTONIO CESPEDES
C4: Estado de Situación Financiera
C5: Al 31 de ENERO 2026
C6: (Valores en RD$)
F8: 2026 | H8: =+[1]BC!G11 -> 2016
A9: Mapeo | C9: Activos
C10: Activos corrientes
A11: 0001 | D11: Efectivo y equivalentes de efectivo (Nota 7) | F11: 2753055.8
A12: 0002 | D12: Inversiones a corto plazo (Nota 8)
A13: 0003 | D13: Porción corriente de documentos por cobrar (Nota 9)
A14: 0004 | D14: Cuenta por cobrar a corto plazo (Notas 8) | F14: 1340195.8
A15: 0005 | D15: Inventarios (Nota 9) | F15: 4580428
A16: 0006 | D16: Pagos anticipados (Nota 12) | F16: 0
A17: 0007 | D17: Otros activos corrientes (Nota 13)
C18: Total activos corrientes | F18: =SUM(F10:F17) -> 8673679.6 | H18: =SUM(H10:H17) -> 0
C20: Activos no corrientes
A21: 0008 | D21: Cuentas por cobrar a largo plazo (Notas 14) | F21: 0
A22: 0009 | D22: Documentos por cobrar (Nota 15)
A23: 0010 | D23: Inversiones a largo plazo (Nota 16)
A24: 0011 | D24: Otros activos financieros (Notas 17) | F24: 0
A25: 0012 | D25: Mobiliarios y equipos neto (Nota 10) | F25: 0
A26: 0013 | D26: Activos intangibles (Nota 10)
A27: 0014 | D27: Otros activos no financieros (Nota 20)
C28: Total activos no corrientes | F28: =SUM(F21:F27) -> 0 | H28: =SUM(H21:H27) -> 0
C30: Total activos | F30: =SUM(F28,F18) -> 8673679.6 | H30: =SUM(H28,H18) -> 0
C32: Pasivos
C33: Pasivos corrientes
A34: 0015 | D34: Sobregiro bancario (Nota 21) | F34: 0
A35: 0016 | D35: Cuentas por pagar a corto plazo (Nota 11) | F35: 5584464.5
A36: 0017 | D36: Préstamos a corto plazo (Nota 23)
A37: 0018 | D37: Parte corriente de préstamos a largo plazo (Nota 24)
A38: 0019 | D38: Retenciones y acumulaciones por pagar (Nota 12) | F38: 0
A39: 0020 | D39: Provisiones a corto plazo (Nota 26) | F39: 0
A40: 0021 | D40: Beneficios a empleados a corto plazo (Nota 13)
A41: 0022 | D41: Pensiones (Nota 28)
A42: 0023 | D42: Otros pasivos corrientes (Nota 29) | F42: 0
C43: Total pasivos corrientes | F43: =SUM(F34:F42) -> 5584464.5 | H43: =SUM(H34:H42) -> 0
C45: Pasivos no corrientes
A46: 0024 | D46: Cuentas por pagar a largo plazo (Nota 14)
...

Sheet ERF SRS
C2: =+'ESF SNS'!C2:H2 -> Servicio Regional VIII de Salud, Cibao Sur
D3: HOSPITAL DR. PEDRO ANTONIO CESPEDES
C4: Estado de Rendimiento Financiero
C5: Del ejercicio terminado al 31 DE ENERO 2026
C6: (Valores en RD$)
F8: 2026 | G8: =+[1]ESF!H7 -> 2016
C9: Ingresos (Nota 17)
A10: 0035 | D10: Impuestos
A11: 0036 | D11: Ingresos por transacciones con contraprestación | F11: 1562128.2
A12: 0037 | D12: Transferencias | F12: 0
A13: 0038 | D13: Recargos, multas y otros ingresos | F13: 0
C14: Total ingresos | F14: =SUM(F10:F13) -> 1562128.2 | G14: =SUM(G10:G13) -> 0
C16: Gastos (Notas 18, 19, 20, 21 y 22)
A17: 0039 | D17: Sueldos, salarios y beneficios a empleados
A18: 0040 | D18: Subvenciones y otros pagos por transferencias
A19: 0041 | D19: Suministros y materiales para consumo | F19: 1463747.6
A20: 0042 | D20: Gasto de depreciación y amortización | F20: 0
A21: 0043 | D21: Deterioro del valor de propiedad, planta y equipo | F21: 0
A22: 0044 | D22: Otros gastos | F22: 4490
A23: 0045 | D23: Gastos financieros | F23: 2302.08 | G23: =SUMIF([1]BC!B:B,[1]ERF!A22,[1]BC!G:G) -> #VALUE!
C24: Total gastos | F24: =SUM(F17:F23) -> 1470539.7 | G24: =SUM(G17:G23) -> #VALUE!
A26: 0046 | D26: Ganancia (pérdida) por diferencia cambiaria | F26: 0 | G26: 0
A28: 0047 | D28: Participación en resultado de asociadas | F28: 0 | G28: 0
C30: Resultados positivos (ahorro) / negativo (desahorro) | F30: =+F14-F24+F26+F28 -> 91588.58 | G30: =+G14-G24+G26+G28 -> #VALUE!
C32: Atribuible a:
A33: 0048 | D33: Propietarios de la entidad controladora | F33: 0 | G33: 0
A34: 0049 | D34: Intereses minoritarios | F34: 0 | G34: 0
F35: =SUM(F33:F34) -> 0 | G35: =SUM(G33:G34) -> 0
D39: Realizado por | F39: Revisado Por
D40: Antonio Salvador Duran Ortiz | F40: Carlos Manuel Suriel
D41: Contador | F41: Administrador Financiero

Sheet Efectivo
B2: Servicio Regional VIII de Salud, Cibao Sur
B3: HOSPITAL DR. PEDRO ANTONIO CESPEDES
B4: Nota # 7: Efectivo Caja y Bancos
B5: Del ejercicio terminado al 31 de ENERO 2026
B6: (Valores en RD$)
A9: # Cta. | B9: Nombre de cuenta | C9: Monto
B11: Caja Chica
A12: 300105134 | B12: Operaciones Ex PSS
B13: Fondo Salud Ex-PSS
A14: 160-112014 | B14: Servicio Nacional de Salud (Fondos Senasa)
A15: 314-0000776 | B15: Fondo Operativo
A16: 240-020561-7 | B16: Cuenta Nueva Ranchito
A17: 314-00145-4 | B17: Fondos Especiales CDC
A18: 314-0000920-0 | B18: Cuenta VIH
A19: 314-000181-0 | B19: Cuenta Tuberculosis
B20: Cuenta Ayuda | C20: 0
B21: Venta de Servicios | C21: 2753055.8
B22: Cuenta Proyecto FGRSS
B23: Anticipo Financieros | C23: 0
B24: Cta. Nomina
B25: Total balance cuentas de bancarias del Reservas | C25: =SUM(C11:C24) -> 2753055.8
A28: # Cta. | B28: Tesoreria Nacional | C28: Monto
A29: 9995028000 | B29: Fondo de la Direccion Central Servicio Nacional de Salud
A30: 9995028001 | B30: Sud- Cuenta Cuota de Pago Direccion Central Servicio Nacional de Salud
A31: 2110003000 | B31: Cuenta Direccion Central SNS
A32: 9998014000 | B32: Recaudacion Establecimiento de Salud PSS
B33: Cuenta Colectora Recursos Directos PSS
A34: 100198000 | B34: Sud- Cuenta Disponibilidad Direccion Central Servicio Nacional de Salud
A35: 100198001 | B35: Sub-Cuota de Pago Direccion Central Servicio Nacional de Salud
B36: Total balance cuentas de bancarias tesoreria nacional
B38: Total efectivo y equivalentes de efectivo | C38: =+C25+C36 -> 2753055.8

Sheet Cuenta por Cobrar
A2: =+#REF! -> #REF!
A3: HOSPITAL DR. PEDRO ANTONIO CESPEDES
A4: Notas # 8: Cuenta Por Cobrar
A5: 31 DE ENERO 2026
A6: (Valores en RD$)
A10: Detalle | B10: Monto
A13: Cuentas Por Cobrar Colaboradores
A14: Otras Cuentas Por Cobrar (Retencion IR-3)
A15: Cuentas por Cobrar Proyecto FGBRSS
A16: Cuentas por Cobrar Ventas de Servicios | B16: 1340695.8
A17: Anticipos financieros
A18: Total Cuentas Por Cobrar | B18: =+B13+B14+B15+B16+B17 -> 1340695.8

Sheet CXP Corto plazo
A2: =+#REF! -> #REF!
A3: HOSPITAL DR. PEDRO A. CESPEDES
A4: Nota # 11: Cuentas por Pagar a Corto Plazo
A5: 31 de ENERO 2026
A6: (Valores en RD$)
A10: Detalle | B10: Monto
A13: Cuentas por Pagar Suplidores | B13: 5584464.5
A14: Total Cuentas Por Pagar a Corto Plazo | B14: =+B13 -> 5584464.5

Sheet Benef. Empl x p Corto Plazo
A2: =+#REF! -> #REF!
A3: Nota # 13: Beneficios a Empleados por Pagar a Corto Plazo
A5: (Valores en RD$)
A8: Detalle | B8: Monto
A11: Sueldos Por Pagar
A12: Viaticos Empleados
A13: Prestaciones Laborales Por Pagar Empleados
A14: Regalia Pascual | B14: 0
A15: Incentivo | B15: 0
A16: Seguridad Social x Pagar
A17: Total Beneficios a Empleados por Pagar a Corto Plazo | B17: =SUM(B14:B16) -> 0

Sheet Benef. Empl x pagar Larg. Plaz
A2: =+#REF! -> #REF!
A3: Nota #15: Beneficios a Empleados por Pagar Largo Plazo
A5: (Valores en RD$)
A8: Detalle | B8: Monto
A11: Sueldos Por Pagar
A12: Viaticos Empleados
A13: Prestaciones Laborales Por Pagar Empleados
A14: Total Cuentas Por Pagar Largo Plazo | B14: =+B11+B12+B13 -> 0

Sheet Ingresos
A2: =+#REF! -> #REF!
A3: Nota 17: Ingresos
A4: 31 de ENERO 2026
A5: (Valores en RD$)
A8: Ingresos con Contraprestacion de Servicios | B8: Monto
A10: Venta de Servicios | B10: 1562128.2
A11: Sub-Total | B11: =SUM(B10) -> 1562128.2
A13: Ingresos sin Contraprestacion de Servicios | B13: Monto
A14: Otros Ingresos | B14: 0
A15: Operaciones Ex PSS | B15: 0
A16: Fondo Salud Ex-PSS
A17: Fondo Operativo
A18: Cuenta Nueva Ranchito
A19: Fondos Especiales CDC
A20: Cuenta VIH
A22: Cuenta Proyecto FGRSS
A23: Anticipo Financieros | B23: 0
A24: Cuenta Direccion Central SNS
A25: Sud- Cuenta Disponibilidad Direccion Central Servicio Nacional de Salud
A26: Sub-Total | B26: =SUM(B15:B25) -> 0
A27: Total | B27: =B26+B11 -> 1562128.2

Sheet Total Gasto
A1: =+#REF! -> #REF!
A2: Nota #18,19,20,21 y 22 Gastos Generales
A3: AL 31 DE ENERO 2026
A4: (Valores en RD$)
A6: Detalles | B6: Monto
A7: Gastos de Consumo | B7: 0
B8: 0
A9: Sueldos para Cargos Fijos | B9: 0
A10: Sueldos Personal Temporero | B10: 0
A11: Compensaciones Directas al Personal | B11: 0
A12: Jornales
A13: Honorarios
A14: Dietas y Gastos de Representacion | B14: 0
A15: Prestaciones y Bonificaciones | B15: 0
A16: Contribuciones a la Seguridad Social | B16: 0
A17: Sueldo anual nº 13 | B17: 0
A18: Otros Servicios Personales | B18: 0
A19: Bienes y Servicios | B19: 0
A20: Servicios no Personales | B20: 0
A21: Servicios de Comunicaciones | B21: 0
A22: Servicios Basicos | B22: 0
A23: Publicidad, Impresiones y Encuadernaciones | B23: 0
A24: Viaticos Dentro y Fuera del Pais | B24: 0
A25: Transporte y Almacenaje
A26: Alquileres | B26: 0
A27: Seguros
A28: Conservacion, Reparaciones Menores y Construcciones Temporales
A30: Materiales y Suministros
A31: Alimentos y Productos Agroforestales
A32: Productos Medicinaels para uso humanos
A33: Textiles y Vestuarios
A34: Productos de Papel, Carton e Impresos
A35: Combustibles, Lubricantes, Productos Quimicos y Conexos
A36: Productos de Cuero, Caucho y Plastico | B36: 0
A37: Productos de Minerales Metalicos y no Metalicos
A38: Productos y Utiles Varios
A39: Productos quimicos de laboratorio y uso personal
A40: Material de Limpieza
A41: Utilies de escritorio, oficina e informatica
A42: Utiles Menores medicos quirurgico y de laboratorio
...

Sheet Inventario
A1: Servicio Regional VIII de Salud, Cibao Sur
A2: Nota # 9: Inventario
A3: 46053
A4: (Valores en RD$)
A7: Descripción | B7: Monto
A10: Inventario de Útiles y Suministro de Oficina
A11: Inventario de Alimentos | B11: 62959.64
A12: Inventario Medicamentos | B12: 4517468.3
A13: Inventario de Material Med. Quirurjicos. | B13: 0
A14: Total Inventario | B14: =SUM(B11:B13) -> 4580428

Sheet CXP Largo Plazo
A1: Servicio Regional de Salud
A2: Nota #14: Cuentas por Pagar Largo Plazo
A3: =+'Benef. Empl x p Corto Plazo'!A4:B4 -> 0
A4: (Valores en RD$)
A8: Detalle | B8: Monto
A11: Cuentas por Pagar Hospitalaria Largo Plazo
A13: Total Cuentas Por Pagar a Largo Plazo | B13: =SUM(B11:B12) -> 0

Sheet Patrimonio
A1: Servicio Regional VIII de Salud, Cibao Central
A2: Nota #16: Patrimonio
A3: =+'Benef. Empl x pagar Larg. Plaz'!A4:B4 -> 0
A4: (Valores en RD$)
A8: Detalle | B8: Monto
A11: Capital | B11: =+'ESF SNS'!F56 -> 0
A12: Resultados positivos (ahorro)/negativo (desahorro)
A13: Resultado acumulado | B13: =+'ESF SNS'!F59 -> 0
A14: Total Patrimonio Neto | B14: =SUM(B11:B13) -> 0

Sheet ECAMP
B2: =+[1]ESF!C2 -> Entidad Modelo
B3: Estado de Cambio de Activo / Patrimonio
B4: Del ejercicio terminado al 31 de DICIEMBRE 2024 y 2025
B5: (Valores en RD$)
E7: Capital Aportado | G7: Cambios en Políticas Contables | I7: Revaluación | K7: Resultados Acumulados | M7: Total Activos Netos / Patrimonio
C8: Saldo al 31 de diciembre de 2019 | E8: 0 | G8: 0 | I8: 0 | M8: =SUM(E8,G8,I8,K8) -> 0
C9: Cambio en políticas contables | G9: 0 | M9: =SUM(E9,G9,I9,K9) -> 0
C10: Revaluación de Propiedad, planta y equipo | I10: 0 | M10: =SUM(E10,G10,I10,K10) -> 0
C11: Ajuste al patrimonio | M11: =SUM(E11,G11,I11,K11) -> 0
C12: Resultado del período | M12: =SUM(E12,G12,I12,K12) -> 0
C13: Saldo al 31 de diciembre de 2016 | E13: =SUM(E8:E12) -> 0 | G13: =SUM(G8:G12) -> 0 | I13: =SUM(I8:I12) -> 0 | K13: =SUM(K8:K12) -> 0 | M13: =SUM(M8:M12) -> 0
C15: Cambio en políticas contables | G15: 0 | M15: =SUM(E15,G15,I15,K15) -> 0
C16: Revaluación de Propiedad, planta y equipo | I16: 0 | M16: =SUM(E16,G16,I16,K16) -> 0
C17: Efecto del gasto de depreciación de los activos revaluados | I17: 0 | K17: 0 | M17: =SUM(E17,G17,I17,K17) -> 0
C18: Ajuste al patrimonio | M18: =SUM(E18,G18,I18,K18) -> 0
C19: Resultado del período | M19: =SUM(E19,G19,I19,K19) -> 0
C20: Saldo al 31 de Diciembre de 2017 | E20: =SUM(E19,E13) -> 0 | G20: =SUM(G19,G13) -> 0 | I20: =SUM(I19,I13) -> 0 | K20: =SUM(K13:K19) -> 0 | M20: =SUM(M13:M19) -> 0
C23: =+[1]ESF!C65 -> Las notas en las páginas 7 a 20 son parte integral de estos Estados Financieros.

Sheet Retenciones y Acum.
A2: =+#REF! -> #REF!
A3: Nota #12: Retenciones y Acumulaciones
A4: =+#REF! -> #REF!
A5: (Valores en RD$)
A9: Detalle | B9: Monto
A12: Retenciones ISR Empleados
A13: Retencion ISR 5% | B13: =+'ESF SNS'!F38 -> 0
A14: Retenciones ISR 10%
A15: Retencion ITBIS
A16: Infotep
A17: Retencion Seguridad Social | B17: 0
A18: Retencion de Supervision de Obras
A19: Retencion ley 6-86 Pensiones
A20: Total Retenciones y Acumulaciones | B20: =SUM(B12:B19) -> 0

Sheet Mobiliario Eq. Ofc.
A1: Servicio Regional VIII de Salud, Cibao Central
A2: Nota #10: Mobiliarios y Equipos
A3: =A6+'Cuenta por Cobrar'!A5:B5 -> #VALUE!
A4: (Valores en RD$)
A8: Mobiliarios y Equipos de Oficinas | B8: Monto
A10: Costos:
A11: Saldos al inicio | B11: 0
A12: Adiciones
A13: Retiros | B13: 0
A14: Saldo al final | B14: =+B10+B11+B12-B13 -> 0
A17: Equipos de Transporte y Otros | B17: Regional VIII
A18: Costos:
A19: Saldos al inicio | B19: 0
A20: Adiciones | B20: 0
A21: Retiros | B21: 0
A22: Saldo al final | B22: =+B18+B19+B20-B21 -> 0
A26: Depreciación acumulada: | B26: Cede Región VIII
B27: SNS
A28: Saldos al inicio Mob. Y Eq. | B28: 13099073
A29: Saldos al inicio de Equipo de Trans.
A30: Cargo del período Mob. Y Eq.
A31: Cargo del período Equipo de Trans.
A32: Retiros Mob. Y Equipo | B32: 0
A33: Retiros Equipo de Trans.
A34: Saldo al final | B34: =+B28 -> 13099073
A35: Mobiliarios y equipos, neto | B35: =+B14+B22-B34 -> -13099073

Sheet Hoja1
